BEGIN:VCALENDAR
VERSION:2.0
PRODID:-//Autisme Jura bernois - ECPv6.15.20//NONSGML v1.0//EN
CALSCALE:GREGORIAN
METHOD:PUBLISH
X-ORIGINAL-URL:https://autismejurabernois.ch
X-WR-CALDESC:Évènements pour Autisme Jura bernois
REFRESH-INTERVAL;VALUE=DURATION:PT1H
X-Robots-Tag:noindex
X-PUBLISHED-TTL:PT1H
BEGIN:VTIMEZONE
TZID:Europe/Zurich
BEGIN:DAYLIGHT
TZOFFSETFROM:+0100
TZOFFSETTO:+0200
TZNAME:CEST
DTSTART:20240331T010000
END:DAYLIGHT
BEGIN:STANDARD
TZOFFSETFROM:+0200
TZOFFSETTO:+0100
TZNAME:CET
DTSTART:20241027T010000
END:STANDARD
BEGIN:DAYLIGHT
TZOFFSETFROM:+0100
TZOFFSETTO:+0200
TZNAME:CEST
DTSTART:20250330T010000
END:DAYLIGHT
BEGIN:STANDARD
TZOFFSETFROM:+0200
TZOFFSETTO:+0100
TZNAME:CET
DTSTART:20251026T010000
END:STANDARD
BEGIN:DAYLIGHT
TZOFFSETFROM:+0100
TZOFFSETTO:+0200
TZNAME:CEST
DTSTART:20260329T010000
END:DAYLIGHT
BEGIN:STANDARD
TZOFFSETFROM:+0200
TZOFFSETTO:+0100
TZNAME:CET
DTSTART:20261025T010000
END:STANDARD
END:VTIMEZONE
BEGIN:VEVENT
DTSTART;TZID=Europe/Zurich:20250509T190000
DTEND;TZID=Europe/Zurich:20250509T190000
DTSTAMP:20260421T134915
CREATED:20250321T211535Z
LAST-MODIFIED:20250322T142939Z
UID:1041-1746817200-1746817200@autismejurabernois.ch
SUMMARY:Assemblé générale Autisme Jura & Jura bernois 2025
DESCRIPTION:Votre nom\n \n \n Votre e-mail\n \n \n Objet\n \n \n Votre message (facultatif)\n \n \n\n Sur inscription\, les informations suivront par email
URL:https://autismejurabernois.ch/event/assemble-generale-autisme-jura-jura-bernois-2025/
LOCATION:Tertianum\, Route de Bâle 68\, Delémont\, 2800\, Switzerland
END:VEVENT
BEGIN:VEVENT
DTSTART;TZID=Europe/Zurich:20250517T100000
DTEND;TZID=Europe/Zurich:20250517T120000
DTSTAMP:20260421T134915
CREATED:20250917T100536Z
LAST-MODIFIED:20250917T100536Z
UID:1149-1747476000-1747483200@autismejurabernois.ch
SUMMARY:Rencontre Juraspi - Mai 2025
DESCRIPTION:Votre nom\n \n \n Votre e-mail\n \n \n Objet\n \n \n Votre message (facultatif)\n \n \n\n Plus d’informations sur le site d’Autisme Jura
URL:https://autismejurabernois.ch/event/rencontre-juraspi-mai-2025/
LOCATION:Delémont\, Delémont\, Jura\, 2800\, Suisse
END:VEVENT
BEGIN:VEVENT
DTSTART;TZID=Europe/Zurich:20250524T180000
DTEND;TZID=Europe/Zurich:20250524T200000
DTSTAMP:20260421T134915
CREATED:20250521T063822Z
LAST-MODIFIED:20250521T063941Z
UID:1085-1748109600-1748116800@autismejurabernois.ch
SUMMARY:Soirée jeux pour les ados
DESCRIPTION:Votre nom\n \n \n Votre e-mail\n \n \n Objet\n \n \n Votre message (facultatif)\n \n \n\n Pour cette première rencontre\, les jeunes viendront accompagnés d’un parent. L’idée est que ce groupe devienne autogéré avec un tournus entre les jeune et leurs parents pour l’organisation. \nLes instructions pour s’inscrire ont été envoyées par email aux membres.
URL:https://autismejurabernois.ch/event/soiree-jeux-pour-les-ados/
LOCATION:Cabinet Dispositif Avenir\, Rue de l'Avenir 10\, Delémont\, Jura\, 2800\, Switzerland
ATTACH;FMTTYPE=image/png:https://autismejurabernois.ch/wp-content/uploads/2025/05/Soiree-jeux-24-mai-2025.png
END:VEVENT
BEGIN:VEVENT
DTSTART;TZID=Europe/Zurich:20250525T133000
DTEND;TZID=Europe/Zurich:20250525T160000
DTSTAMP:20260421T134915
CREATED:20250401T110459Z
LAST-MODIFIED:20250521T064915Z
UID:1057-1748179800-1748188800@autismejurabernois.ch
SUMMARY:Sensibilisation à Festiv-All
DESCRIPTION:Votre nom\n \n \n Votre e-mail\n \n \n Objet\n \n \n Votre message (facultatif)\n \n \n\n Présentation de la mallette d’activités immersives Autisme Bien Comprendre
URL:https://autismejurabernois.ch/event/sensibilisation-a-festiv-all-2025/
LOCATION:Théatre du Jura\, Route de Bâle 10\, Delémont\, Jura\, 2800\, Switzerland
END:VEVENT
END:VCALENDAR