BEGIN:VCALENDAR
VERSION:2.0
PRODID:-//Autisme Jura bernois - ECPv6.15.20//NONSGML v1.0//EN
CALSCALE:GREGORIAN
METHOD:PUBLISH
X-WR-CALNAME:Autisme Jura bernois
X-ORIGINAL-URL:https://autismejurabernois.ch
X-WR-CALDESC:Évènements pour Autisme Jura bernois
REFRESH-INTERVAL;VALUE=DURATION:PT1H
X-Robots-Tag:noindex
X-PUBLISHED-TTL:PT1H
BEGIN:VTIMEZONE
TZID:Europe/Zurich
BEGIN:DAYLIGHT
TZOFFSETFROM:+0100
TZOFFSETTO:+0200
TZNAME:CEST
DTSTART:20230326T010000
END:DAYLIGHT
BEGIN:STANDARD
TZOFFSETFROM:+0200
TZOFFSETTO:+0100
TZNAME:CET
DTSTART:20231029T010000
END:STANDARD
BEGIN:DAYLIGHT
TZOFFSETFROM:+0100
TZOFFSETTO:+0200
TZNAME:CEST
DTSTART:20240331T010000
END:DAYLIGHT
BEGIN:STANDARD
TZOFFSETFROM:+0200
TZOFFSETTO:+0100
TZNAME:CET
DTSTART:20241027T010000
END:STANDARD
BEGIN:DAYLIGHT
TZOFFSETFROM:+0100
TZOFFSETTO:+0200
TZNAME:CEST
DTSTART:20250330T010000
END:DAYLIGHT
BEGIN:STANDARD
TZOFFSETFROM:+0200
TZOFFSETTO:+0100
TZNAME:CET
DTSTART:20251026T010000
END:STANDARD
END:VTIMEZONE
BEGIN:VEVENT
DTSTART;TZID=Europe/Zurich:20240402T140000
DTEND;TZID=Europe/Zurich:20240402T170000
DTSTAMP:20260422T144313
CREATED:20240424T142639Z
LAST-MODIFIED:20240424T142639Z
UID:850-1712066400-1712077200@autismejurabernois.ch
SUMMARY:Après-midi jeux
DESCRIPTION:Votre nom\n \n \n Votre e-mail\n \n \n Objet\n \n \n Votre message (facultatif)\n \n \n\n Dans le cadre du 2 avril\, Autisme Jura et Autisme Jura bernois organisent un après-midi jeux.
URL:https://autismejurabernois.ch/event/apres-midi-jeux/
LOCATION:Foyer\, Moutier\, Rue du Clos 3\, Moutier\, Berne\, 2740\, Suisse
ATTACH;FMTTYPE=image/jpeg:https://autismejurabernois.ch/wp-content/uploads/2024/04/434195214_727799402802685_1554595903455504662_n.jpg
END:VEVENT
BEGIN:VEVENT
DTSTART;TZID=Europe/Zurich:20240420T100000
DTEND;TZID=Europe/Zurich:20240420T120000
DTSTAMP:20260422T144313
CREATED:20240424T141740Z
LAST-MODIFIED:20240430T064023Z
UID:851-1713607200-1713614400@autismejurabernois.ch
SUMMARY:Rencontre Juraspi - Avril 2024
DESCRIPTION:Votre nom\n \n \n Votre e-mail\n \n \n Objet\n \n \n Votre message (facultatif)\n \n \n\n Cliquez ici pour plus d’informations
URL:https://autismejurabernois.ch/event/rencontre-juraspi-avril-2024/
LOCATION:Tavannes\, Tavannes\, 2710\, Suisse
END:VEVENT
BEGIN:VEVENT
DTSTART;TZID=Europe/Zurich:20240427T090000
DTEND;TZID=Europe/Zurich:20240427T140000
DTSTAMP:20260422T144313
CREATED:20240425T115329Z
LAST-MODIFIED:20240425T115329Z
UID:860-1714208400-1714226400@autismejurabernois.ch
SUMMARY:Autisme Jura bernois au marché de Tavannes
DESCRIPTION:Votre nom\n \n \n Votre e-mail\n \n \n Objet\n \n \n Votre message (facultatif)
URL:https://autismejurabernois.ch/event/autisme-jura-bernois-au-marche-de-tavannes/
ATTACH;FMTTYPE=image/png:https://autismejurabernois.ch/wp-content/uploads/2024/04/affiche-pi-marche-tavannes.png
END:VEVENT
END:VCALENDAR