BEGIN:VCALENDAR
VERSION:2.0
PRODID:-//Autisme Jura bernois - ECPv6.15.20//NONSGML v1.0//EN
CALSCALE:GREGORIAN
METHOD:PUBLISH
X-WR-CALNAME:Autisme Jura bernois
X-ORIGINAL-URL:https://autismejurabernois.ch
X-WR-CALDESC:Évènements pour Autisme Jura bernois
REFRESH-INTERVAL;VALUE=DURATION:PT1H
X-Robots-Tag:noindex
X-PUBLISHED-TTL:PT1H
BEGIN:VTIMEZONE
TZID:Europe/Zurich
BEGIN:DAYLIGHT
TZOFFSETFROM:+0100
TZOFFSETTO:+0200
TZNAME:CEST
DTSTART:20220327T010000
END:DAYLIGHT
BEGIN:STANDARD
TZOFFSETFROM:+0200
TZOFFSETTO:+0100
TZNAME:CET
DTSTART:20221030T010000
END:STANDARD
BEGIN:DAYLIGHT
TZOFFSETFROM:+0100
TZOFFSETTO:+0200
TZNAME:CEST
DTSTART:20230326T010000
END:DAYLIGHT
BEGIN:STANDARD
TZOFFSETFROM:+0200
TZOFFSETTO:+0100
TZNAME:CET
DTSTART:20231029T010000
END:STANDARD
BEGIN:DAYLIGHT
TZOFFSETFROM:+0100
TZOFFSETTO:+0200
TZNAME:CEST
DTSTART:20240331T010000
END:DAYLIGHT
BEGIN:STANDARD
TZOFFSETFROM:+0200
TZOFFSETTO:+0100
TZNAME:CET
DTSTART:20241027T010000
END:STANDARD
END:VTIMEZONE
BEGIN:VEVENT
DTSTART;TZID=Europe/Zurich:20230520T100000
DTEND;TZID=Europe/Zurich:20230520T113000
DTSTAMP:20260423T110919
CREATED:20230406T144947Z
LAST-MODIFIED:20240430T064138Z
UID:793-1684576800-1684582200@autismejurabernois.ch
SUMMARY:Rencontre Juraspi - Mai 2023
DESCRIPTION:Votre nom\n \n \n Votre e-mail\n \n \n Objet\n \n \n Votre message (facultatif)\n \n \n\n Pour vous inscrire\, contactez-nous
URL:https://autismejurabernois.ch/event/rencontre-juraspi-mai-2023/
LOCATION:Delémont\, Delémont\, Jura\, 2800\, Suisse
END:VEVENT
END:VCALENDAR