BEGIN:VCALENDAR
VERSION:2.0
PRODID:-//Autisme Jura bernois - ECPv6.15.20//NONSGML v1.0//EN
CALSCALE:GREGORIAN
METHOD:PUBLISH
X-ORIGINAL-URL:https://autismejurabernois.ch
X-WR-CALDESC:Évènements pour Autisme Jura bernois
REFRESH-INTERVAL;VALUE=DURATION:PT1H
X-Robots-Tag:noindex
X-PUBLISHED-TTL:PT1H
BEGIN:VTIMEZONE
TZID:Europe/Zurich
BEGIN:DAYLIGHT
TZOFFSETFROM:+0100
TZOFFSETTO:+0200
TZNAME:CEST
DTSTART:20220327T010000
END:DAYLIGHT
BEGIN:STANDARD
TZOFFSETFROM:+0200
TZOFFSETTO:+0100
TZNAME:CET
DTSTART:20221030T010000
END:STANDARD
BEGIN:DAYLIGHT
TZOFFSETFROM:+0100
TZOFFSETTO:+0200
TZNAME:CEST
DTSTART:20230326T010000
END:DAYLIGHT
BEGIN:STANDARD
TZOFFSETFROM:+0200
TZOFFSETTO:+0100
TZNAME:CET
DTSTART:20231029T010000
END:STANDARD
BEGIN:DAYLIGHT
TZOFFSETFROM:+0100
TZOFFSETTO:+0200
TZNAME:CEST
DTSTART:20240331T010000
END:DAYLIGHT
BEGIN:STANDARD
TZOFFSETFROM:+0200
TZOFFSETTO:+0100
TZNAME:CET
DTSTART:20241027T010000
END:STANDARD
END:VTIMEZONE
BEGIN:VEVENT
DTSTART;TZID=Europe/Zurich:20230415T100000
DTEND;TZID=Europe/Zurich:20230415T113000
DTSTAMP:20260423T125723
CREATED:20230406T144244Z
LAST-MODIFIED:20240430T064154Z
UID:789-1681552800-1681558200@autismejurabernois.ch
SUMMARY:Rencontre Juraspi - Avril 2023
DESCRIPTION:Votre nom\n \n \n Votre e-mail\n \n \n Objet\n \n \n Votre message (facultatif)\n \n \n\n Contactez nous pour vous inscrire
URL:https://autismejurabernois.ch/event/rencontre-juraspi-avril-2023/
LOCATION:Tavannes\, Tavannes\, 2710\, Suisse
END:VEVENT
END:VCALENDAR