BEGIN:VCALENDAR
VERSION:2.0
PRODID:-//Autisme Jura bernois - ECPv6.15.20//NONSGML v1.0//EN
CALSCALE:GREGORIAN
METHOD:PUBLISH
X-ORIGINAL-URL:https://autismejurabernois.ch
X-WR-CALDESC:Évènements pour Autisme Jura bernois
REFRESH-INTERVAL;VALUE=DURATION:PT1H
X-Robots-Tag:noindex
X-PUBLISHED-TTL:PT1H
BEGIN:VTIMEZONE
TZID:Europe/Zurich
BEGIN:DAYLIGHT
TZOFFSETFROM:+0100
TZOFFSETTO:+0200
TZNAME:CEST
DTSTART:20220327T010000
END:DAYLIGHT
BEGIN:STANDARD
TZOFFSETFROM:+0200
TZOFFSETTO:+0100
TZNAME:CET
DTSTART:20221030T010000
END:STANDARD
BEGIN:DAYLIGHT
TZOFFSETFROM:+0100
TZOFFSETTO:+0200
TZNAME:CEST
DTSTART:20230326T010000
END:DAYLIGHT
BEGIN:STANDARD
TZOFFSETFROM:+0200
TZOFFSETTO:+0100
TZNAME:CET
DTSTART:20231029T010000
END:STANDARD
BEGIN:DAYLIGHT
TZOFFSETFROM:+0100
TZOFFSETTO:+0200
TZNAME:CEST
DTSTART:20240331T010000
END:DAYLIGHT
BEGIN:STANDARD
TZOFFSETFROM:+0200
TZOFFSETTO:+0100
TZNAME:CET
DTSTART:20241027T010000
END:STANDARD
END:VTIMEZONE
BEGIN:VEVENT
DTSTART;TZID=Europe/Zurich:20231104T090000
DTEND;TZID=Europe/Zurich:20231104T180000
DTSTAMP:20260423T012418
CREATED:20231024T185828Z
LAST-MODIFIED:20231024T185828Z
UID:816-1699088400-1699120800@autismejurabernois.ch
SUMMARY:Journée de l'inclusion 2023
DESCRIPTION:Votre nom\n \n \n Votre e-mail\n \n \n Objet\n \n \n Votre message (facultatif)
URL:https://autismejurabernois.ch/event/journee-de-linclusion-2023/
LOCATION:CET Tavannes\, La Combe 10\, Tavannes\, Berne\, 2710\, Suisse
ATTACH;FMTTYPE=image/jpeg:https://autismejurabernois.ch/wp-content/uploads/2023/10/b050cb76-60c2-4c76-8a04-b4a6c183a89d.jpg
END:VEVENT
END:VCALENDAR